BEGIN:VCALENDAR
VERSION:2.0
PRODID:icalendar-ruby
CALSCALE:GREGORIAN
METHOD:PUBLISH
BEGIN:VEVENT
DTSTAMP:20260421T235220Z
UID:12-298221@highlandsmethodist.org
DTSTART:20260719T130000Z
DTEND:20260719T140000Z
CLASS:PUBLIC
CREATED:20260304T114220
DESCRIPTION:
LAST-MODIFIED:20260304T114220
LOCATION:
SUMMARY:9:09 Worship
URL;VALUE=URI:https://highlandsmethodist.org/events/9-09-worship/2026-07-19
END:VEVENT
END:VCALENDAR
