BEGIN:VCALENDAR
VERSION:2.0
PRODID:icalendar-ruby
CALSCALE:GREGORIAN
METHOD:PUBLISH
BEGIN:VEVENT
DTSTAMP:20260421T135422Z
UID:12-298216@highlandsmethodist.org
DTSTART:20260614T130000Z
DTEND:20260614T140000Z
CLASS:PUBLIC
CREATED:20260304T114220
DESCRIPTION:
LAST-MODIFIED:20260304T114220
LOCATION:
SUMMARY:9:09 Worship
URL;VALUE=URI:https://highlandsmethodist.org/events/9-09-worship/2026-06-14
END:VEVENT
END:VCALENDAR
