BEGIN:VCALENDAR
VERSION:2.0
PRODID:icalendar-ruby
CALSCALE:GREGORIAN
METHOD:PUBLISH
BEGIN:VEVENT
DTSTAMP:20260424T023903Z
UID:9-298164@highlandsmethodist.org
DTSTART:20260906T150000Z
DTEND:20260906T163000Z
CLASS:PUBLIC
CREATED:20260304T112255
DESCRIPTION:
LAST-MODIFIED:20260304T112255
LOCATION:
SUMMARY:11am Worship
URL;VALUE=URI:https://highlandsmethodist.org/events/11am-worship/2026-09-06
END:VEVENT
END:VCALENDAR
