BEGIN:VCALENDAR
VERSION:2.0
PRODID:icalendar-ruby
CALSCALE:GREGORIAN
METHOD:PUBLISH
BEGIN:VEVENT
DTSTAMP:20260423T105611Z
UID:9-298156@highlandsmethodist.org
DTSTART:20260712T150000Z
DTEND:20260712T163000Z
CLASS:PUBLIC
CREATED:20260304T112255
DESCRIPTION:
LAST-MODIFIED:20260304T112255
LOCATION:
SUMMARY:11am Worship
URL;VALUE=URI:https://highlandsmethodist.org/events/11am-worship/2026-07-12
END:VEVENT
END:VCALENDAR
